BEGIN:VCALENDAR
VERSION:2.0
PRODID:-//wp-events-plugin.com//7.2.3.1//EN
BEGIN:VEVENT
UID:130@stensby-racing.se
DTSTART;TZID=Europe/Stockholm:20250604T090000
DTEND;TZID=Europe/Stockholm:20250605T170000
DTSTAMP:20250520T153925Z
URL:https://stensby-racing.se/events/bandag-testtune-mantorp-park-4-5juni-
 2025/
SUMMARY:Bandag Test&Tune Mantorp Park 4-5e Juni 2025
DESCRIPTION:Det är öppen depå hela dagen\, inga tider att hålla. En gro
 v indelning är\, lite långsammare förare de första 30 minutrarna och s
 nabbare andra halvtimman men du får köra hela tiden om du vill.\nKrav f
 ör att få köra på banan under detta event när det gäller utrustning 
 skinnställ och bra övriga skyddskläder (mer info här)\nAdvanced Motobi
 lity är på plats och tillhandahåller bra &amp\; säkra produkter för d
 etta om du inte har det idag.\n\nPrimo tillsammans med Pirelli kommer vara
  på plats med försäljning av Pirelli däck och hjälper till med däcko
 mläggning\n\nBesiktning av motorcyklar sker kvällstid och på morgonen i
 nnan förarmötet (mer information här)\n\nMax antal deltagare på detta 
 event är 40st per dag.\n\nVi kommer använda lampsystemet runt banan för
  att få till effektiva pass och enkelt kunna meddela alla på banan samti
 digt om något hänt.\n\nAmbulans finns på plats och restaurangen är öp
 pen\n\nAnmälningsavgiften betalas in till BankGiro: 369-0864 eller Swish
  till 123 405 07 38. Använder du QR koden till höger\, anpassa summan t
 ill det du anmäler dig till. Vill du ha en faktura istället? maila info@
 stensby-racing.se med fakturainformation.\n\nNytt för denna gång kommer 
 Björsner MC Teknik att ställa ut Royal Enfield motorcyklar! Mer informat
 ion kommer senare\n\nVirtual trackwalk!\n\nMissa inte den virtuella trackw
 alk som ingår den 28e maj kl 19-21 (länk skicka via mail)\nKan man inte 
 det datumet kommer en genomgång göras under dagen den 4:e juni (plats an
 nonseras senare)\n\nHålltider för dagen\nKvällen den 3:e juni inskrivni
 ng kl 19.30-21.00\nInskrivning kl 7.30 8.10\nFörarmöten 8.20\nKörningen
  börjar 09.00 och slutar 17.00.\n\nLite allmänna frågor och svar på va
 d som händer och gäller under bandagen finns här\n\n&nbsp\;
ATTACH;FMTTYPE=image/jpeg:https://stensby-racing.se/wp-content/uploads/202
 4/10/BandagLogo.jpg
CATEGORIES:Bandagar,Träningar
LOCATION:Mantorp Park\, Mantorp Park\, Mantorp\, 59017\, Sverige
GEO:58.365002;15.284721999999988
X-APPLE-STRUCTURED-LOCATION;VALUE=URI;X-ADDRESS=Mantorp Park\, Mantorp\, 59
 017\, Sverige;X-APPLE-RADIUS=100;X-TITLE=Mantorp Park:geo:58.365002,15.284
 721999999988
END:VEVENT
BEGIN:VTIMEZONE
TZID:Europe/Stockholm
X-LIC-LOCATION:Europe/Stockholm
BEGIN:DAYLIGHT
DTSTART:20250330T030000
TZOFFSETFROM:+0100
TZOFFSETTO:+0200
TZNAME:CEST
END:DAYLIGHT
END:VTIMEZONE
END:VCALENDAR