BEGIN:VCALENDAR
VERSION:2.0
PRODID:-//wp-events-plugin.com//7.2.3.1//EN
BEGIN:VEVENT
UID:129@stensby-racing.se
DTSTART;TZID=Europe/Stockholm:20240605T090000
DTEND;TZID=Europe/Stockholm:20240605T170000
DTSTAMP:20240115T172729Z
URL:https://stensby-racing.se/events/bandag-testtune-mantorp-park-5ejuni-2
 024/
SUMMARY:Bandag Test&Tune Mantorp Park 5e juni 2024
DESCRIPTION:Det är öppen depå hela dagen\, inga tider att hålla. En gro
 v indelning är\, lite långsammare förare de första 30 minutrarna och s
 nabbare andra halvtimman men du får köra hela tiden om du vill.\n\nMax a
 ntal deltagare på detta event är 40st\n\nVi kommer använda lampsystemet
  runt banan för att få till effektiva pass och enkelt kunna meddela alla
  på banan samtidigt att det är är slut på passet eller att en olycka h
 änt.\n\n 	Advanced Mobility är på plats med MC Kläder (skinnställ\, h
 andskar mm)\n 	THF Bridgestone är på plats med däck &amp\; däckservice
 \n 	Ambulans finns på plats\n 	Restaurangen är öppen\n\nAnmälningsavgi
 ften betalas in till BankGiro: 369-0864 eller Swish 123 405 07 38. Anv
 änder du QR koden till höger\, anpassa summan till det du anmäler dig t
 ill. Vill du ha en faktura istället? maila info@stensby-racing.se med fak
 turainformation.\n\n\nVirtual trackwalk!\n\nMissa inte den virtuella trac
 kwalk som ingår den 22a maj kl 19-21 (länk skicka via mail)\nKan man int
 e delta den 22a maj hålls samma genomgång på banan kvällen den 4e juni
  kl 20 i box 1.\n\nHålltider för dagen\nInskrivning börjar kl 7.30\nFö
 rarmöten 8.20\nKörningen börjar 09.00 och slutar 17.00.\n\nLite allmän
 na frågor och svar på vad som händer och gäller under bandagen finns h
 är\n\n&nbsp\;
ATTACH;FMTTYPE=image/jpeg:https://stensby-racing.se/wp-content/uploads/202
 3/11/BandagLogo-1.jpg
CATEGORIES:Bandagar,Träningar
LOCATION:Mantorp Park\, Mantorp Park\, Mantorp\, 59017\, Sverige
GEO:58.365002;15.284721999999988
X-APPLE-STRUCTURED-LOCATION;VALUE=URI;X-ADDRESS=Mantorp Park\, Mantorp\, 59
 017\, Sverige;X-APPLE-RADIUS=100;X-TITLE=Mantorp Park:geo:58.365002,15.284
 721999999988
END:VEVENT
BEGIN:VTIMEZONE
TZID:Europe/Stockholm
X-LIC-LOCATION:Europe/Stockholm
BEGIN:DAYLIGHT
DTSTART:20240331T030000
TZOFFSETFROM:+0100
TZOFFSETTO:+0200
TZNAME:CEST
END:DAYLIGHT
END:VTIMEZONE
END:VCALENDAR