BEGIN:VCALENDAR
VERSION:2.0
PRODID:-//wp-events-plugin.com//7.2.3.1//EN
BEGIN:VEVENT
UID:128@stensby-racing.se
DTSTART:20230531T180000Z
DTEND:20230531T200000Z
DTSTAMP:20230227T071622Z
URL:https://stensby-racing.se/events/virtual-trackwalk-mantorppark-2023/
SUMMARY:Virtuell trackwalk inför Test&Tune Mantorp Park 7-8e Juni 2023
DESCRIPTION:Inför bandagarna 7-8e juni går vi igenom de vanligaste spårv
 alen och hur man på ett snabbt och säkert sätt tar sig runt Mantorp Par
 k.\n\nAnmäl er här vid intresse av detta så får ni senare ett mail med
  länk till teamsmötet.\n\nVad gör vi då på denna virtuella trackwalk?
  Vi går igenom hela varvet\, för &amp\; nackdelar med olika sorts spårv
 al. Öppen diskussion och frågor får er som deltar välkomnas.\n\nMateri
 alet har tagits fram för att användas på de träningar Östergötlands 
 Roadracing Klubb hade på Mantorp Park 2020 och 2021.\n\nDe som är med p
 å denna virtuella trackwalk förväntas även vara med på bandagarna 7-8
 e juni\n\n
ATTACH;FMTTYPE=image/jpeg:https://stensby-racing.se/wp-content/uploads/202
 2/11/Screenshot-2021-03-10-at-19.12.05.png
CATEGORIES:Träningar
LOCATION:Mantorp Park\, Mantorp Park\, Mantorp\, 59017\, Sverige
GEO:58.365002;15.284721999999988
X-APPLE-STRUCTURED-LOCATION;VALUE=URI;X-ADDRESS=Mantorp Park\, Mantorp\, 59
 017\, Sverige;X-APPLE-RADIUS=100;X-TITLE=Mantorp Park:geo:58.365002,15.284
 721999999988
END:VEVENT
END:VCALENDAR